BEGIN:VCALENDAR
VERSION:2.0
PRODID:-//European Choral Association - ECPv4.9.10//NONSGML v1.0//EN
CALSCALE:GREGORIAN
METHOD:PUBLISH
X-WR-CALNAME:European Choral Association
X-ORIGINAL-URL:https://europeanchoralassociation.org
X-WR-CALDESC:Events for European Choral Association
BEGIN:VTIMEZONE
TZID:Europe/Berlin
BEGIN:DAYLIGHT
TZOFFSETFROM:+0100
TZOFFSETTO:+0200
TZNAME:CEST
DTSTART:20220327T010000
END:DAYLIGHT
BEGIN:STANDARD
TZOFFSETFROM:+0200
TZOFFSETTO:+0100
TZNAME:CET
DTSTART:20221030T010000
END:STANDARD
END:VTIMEZONE
BEGIN:VEVENT
DTSTART;VALUE=DATE:20220902
DTEND;VALUE=DATE:20220906
DTSTAMP:20210707T060625
CREATED:20191216T220715Z
LAST-MODIFIED:20200610T112615Z
UID:8566-1662076800-1662422399@europeanchoralassociation.org
SUMMARY:Brighton International Festival of Choirs – September 2022\, UK
DESCRIPTION:Welcome to Brighton International Festival of Choirs! Four days of choral splendour in a traditional British seaside resort – Brighton! It’s the ‘happiest place in the UK!’ \nFrom 2-5th September 2022\, Brighton will host an international choral festival\, and invites choirs from the UK and all over the world to join us for a four-day spectacular celebration of singing and choral music.  \nA variety of performance venues awaits\, from majestic churches and the glorious gardens of the Royal Pavilion to Brighton’s famous Pier and the seafront itself! What better place to sing your heart out than beside the sea? \nOrganised by Surrey Music\, Brighton International Festival of Choirs offers a high quality\, high-profile yet accessible platform for choirs from the UK and all over the world to come together to perform\, to share\, to learn from each other\, and to experience and enjoy the rich culture\, distinctive heritage and diverse nature that Brighton has to offer. \nAll choirs will benefit from attending a range of choral masterclasses and quality workshops conducted by inspirational leaders. We are delighted to have secured the involvement of two eminent and high-profile judges and choral masterclass leaders – Dr Russell Robinson\, Emeritus Professor of Music Education at the University of Florida\, USA\, and Ralph Allwood MBE DMus as well as many other distinguished choral conductors and specialists. Chttps://youtu.be/S41WnIEb_aAhoirs will have the great privilege of being taught one of Dr Russell Robinson’s own compositions by the very man himself\, and will perform it together in St Peter’s Cathedral in a grand massed-choir performance! \nChoirs choosing to enter our choral competition have the chance of winning a £1000 cash prize! With a free choice of repertoire and only four choral categories including an LGBTQ+ category\, ours will be an inclusive\, happy\, friendly festival\, welcoming youth choirs (12+) and adult choirs of all genres. \nFrom the amazing seafront Parade of choirs and Welcome Reception on the iconic Brighton Palace pier (including fish and chips!) to the grand Finale Concert in the magnificent Brighton Concert Hall\, this festival has it all: an amazing seaside location\, unique performance venues\, quirky shopping areas\, lively nightlife\, a range of central and seafront hotels and plenty of sightseeing opportunities. \nCome and enjoy our warm British hospitality and sample a slice of quintessential England at its best. \n  \nBe the first one to share this post!  
URL:https://europeanchoralassociation.org/event/brighton-international-festival-of-choirs-september-2022-uk/
LOCATION:Brighton\, UK
ATTACH;FMTTYPE=image/jpeg:https://europeanchoralassociation.org/wp-content/uploads/2019/12/FB-event-header-bifc22.jpg
ORGANIZER;CN="Surrey%20Music":MAILTO:festival@brightonifc.com
END:VEVENT
END:VCALENDAR