BEGIN:VCALENDAR
VERSION:2.0
PRODID:-//European Choral Association - ECPv4.9.10//NONSGML v1.0//EN
CALSCALE:GREGORIAN
METHOD:PUBLISH
X-WR-CALNAME:European Choral Association
X-ORIGINAL-URL:https://europeanchoralassociation.org
X-WR-CALDESC:Events for European Choral Association
BEGIN:VTIMEZONE
TZID:Europe/Berlin
BEGIN:DAYLIGHT
TZOFFSETFROM:+0100
TZOFFSETTO:+0200
TZNAME:CEST
DTSTART:20200329T010000
END:DAYLIGHT
BEGIN:STANDARD
TZOFFSETFROM:+0200
TZOFFSETTO:+0100
TZNAME:CET
DTSTART:20201025T010000
END:STANDARD
END:VTIMEZONE
BEGIN:VEVENT
DTSTART;VALUE=DATE:20200701
DTEND;VALUE=DATE:20200706
DTSTAMP:20210720T185616
CREATED:20200214T105559Z
LAST-MODIFIED:20200214T105559Z
UID:8871-1593561600-1593993599@europeanchoralassociation.org
SUMMARY:Budapest Music Festival
DESCRIPTION: \n6th International choir and orchestra festival in Budapest (Hungary)\nwww.mrf-musicfestivals.com \nBUDAPEST – a city with one of the best locations in the world\nNo visitor of the Hungarian capital can resist its beauty. The city enchants\, impresses\, and fascinates at the same time. The Danube divides the city into the hilly Buda and the flat Pest. The most interesting attractions of Budapest are the Fishermen’s Bastion\, the Mathias Church\, the Royal Castle\, the Citadel\, and the Parliament building. It is here\, “by the beautiful blue Danube\,” that the Budapest Music Festival takes place. \nFind us on Facebook: www.Facebook.com/MRF.MusicFestivals \nBe the first one to share this post!  
URL:https://europeanchoralassociation.org/event/budapest-music-festival/
ORGANIZER;CN="MRF%20MusicFestivals":MAILTO:info@mrf-musicfestivals.com
END:VEVENT
END:VCALENDAR