BEGIN:VCALENDAR
VERSION:2.0
PRODID:-//European Choral Association - ECPv4.9.10//NONSGML v1.0//EN
CALSCALE:GREGORIAN
METHOD:PUBLISH
X-WR-CALNAME:European Choral Association
X-ORIGINAL-URL:https://europeanchoralassociation.org
X-WR-CALDESC:Events for European Choral Association
BEGIN:VTIMEZONE
TZID:Europe/Berlin
BEGIN:DAYLIGHT
TZOFFSETFROM:+0100
TZOFFSETTO:+0200
TZNAME:CEST
DTSTART:20210328T010000
END:DAYLIGHT
BEGIN:STANDARD
TZOFFSETFROM:+0200
TZOFFSETTO:+0100
TZNAME:CET
DTSTART:20211031T010000
END:STANDARD
END:VTIMEZONE
BEGIN:VEVENT
DTSTART;VALUE=DATE:20210609
DTEND;VALUE=DATE:20210614
DTSTAMP:20210522T074737
CREATED:20200605T121943Z
LAST-MODIFIED:20200605T121943Z
UID:9045-1623196800-1623628799@europeanchoralassociation.org
SUMMARY:ON STAGE in Albania\,  June 9 - 13\, 2021 Tirana\, Albania
DESCRIPTION:\n\nInitially selected and conceptualized as a celebration destination for the 5th anniversary of ON STAGE Events\, Albania proved to be such a beloved destination to choristers worldwide that it was introduced as the destination of a now annual event\, ON STAGE in Albania. With multiple concert performances\, several city tours and learning possibilities\, and amazing alternatives for an extension of stay\, the event promises to offer an all-round experience that will definitely stay long in the memory. \n\n\nAlbania is quite a surprise for even the experienced traveler offering unparalleled nature dynamics\, unbelievably ancient roots and some of the friendliest people in Europe. Quickly emerging on the international tourism scene after the fall of communism almost 30 years ago\, Albania’s stunning mountain scenery\, crumbling castles\, boisterous capital\, dreamy beaches and delicious cuisine are already a strong rival to other already established Mediterranean attractions. For everyone eager to go off the beaten track onto exciting discoveries\, this is definitely an event not to miss! See you in Shqipëri (Albania)! \nMore information:\nINTERKULTUR\nRuhberg 1 · 35463 Fernwald (Germany)\nTel: +49 (0)6404 69749-25\nFax: +49 (0)6404 69749-29\nmail@interkultur.com \n\n\nBe the first one to share this post!  
URL:https://europeanchoralassociation.org/event/on-stage-in-albania-june-9-13-2021-tirana-albania/
ATTACH;FMTTYPE=image/jpeg:https://europeanchoralassociation.org/wp-content/uploads/2020/04/Logo-OnStage-1.jpg
END:VEVENT
END:VCALENDAR