BEGIN:VCALENDAR
VERSION:2.0
PRODID:-//European Choral Association - ECPv4.9.10//NONSGML v1.0//EN
CALSCALE:GREGORIAN
METHOD:PUBLISH
X-WR-CALNAME:European Choral Association
X-ORIGINAL-URL:https://europeanchoralassociation.org
X-WR-CALDESC:Events for European Choral Association
BEGIN:VTIMEZONE
TZID:Europe/Berlin
BEGIN:DAYLIGHT
TZOFFSETFROM:+0100
TZOFFSETTO:+0200
TZNAME:CEST
DTSTART:20200329T010000
END:DAYLIGHT
BEGIN:STANDARD
TZOFFSETFROM:+0200
TZOFFSETTO:+0100
TZNAME:CET
DTSTART:20201025T010000
END:STANDARD
END:VTIMEZONE
BEGIN:VEVENT
DTSTART;VALUE=DATE:20200718
DTEND;VALUE=DATE:20200719
DTSTAMP:20210807T224528
CREATED:20200108T094253Z
LAST-MODIFIED:20200130T110703Z
UID:8692-1595030400-1595116799@europeanchoralassociation.org
SUMMARY:The 4th World Youth Arts Festival 2020
DESCRIPTION:The 4th World Youth Arts Festival 2020 \nChor und Orchester Musik mit jungen und Erwachsenen Künstlern. \n\n\n\n\n\n\n\n\n\nMit unserem Motto „Kunst verändert die Welt“ findet „The 4th World Arts Festival“ in Wien\, Österreich in einer tollen Umgebung statt. Ungefähr 500 Teilnehmer von jungen Künstlern aus der ganzen Welt erwartet\, die an einer der schönsten musikalischen Festivals teilnehmen können. \nDie Teilnemer haben die Möglichkeit\, sich sowohl zum Festival als auch zum Wettbewerb und Meisterkurs anzumelden. Der Meisterkurs wird von bekannten Dirigenten geleitet. Das Youth Arts Festival ist für Chöre und Orchester offen und das Repertoire ist freiwählbar. \nAlle teilnehmenden jungen Chöre und Orchester präsentieren sich bei einer gemeinsamen Abschlusszeremonie aller Festivalteilnehmer in Wien. \nSie können einen unvergesslichen Festivalaufenthalt in Wien genießen\, sich Chöre und Orchester aus der ganzen Welt anschauen\, Gedanken über Musik austauschen sowie die Hauptstadt von Österreich besichtigen. \n\n\n\n\n\n\n\n\n\nBe the first one to share this post!  
URL:https://europeanchoralassociation.org/event/the-4th-world-youth-arts-festival-2020-2/
ATTACH;FMTTYPE=image/png:https://europeanchoralassociation.org/wp-content/uploads/2020/01/logo_mit_text-2.png
END:VEVENT
END:VCALENDAR