BEGIN:VCALENDAR
VERSION:2.0
PRODID:-//European Choral Association - ECPv4.9.10//NONSGML v1.0//EN
CALSCALE:GREGORIAN
METHOD:PUBLISH
X-WR-CALNAME:European Choral Association
X-ORIGINAL-URL:https://europeanchoralassociation.org
X-WR-CALDESC:Events for European Choral Association
BEGIN:VTIMEZONE
TZID:Europe/Berlin
BEGIN:DAYLIGHT
TZOFFSETFROM:+0100
TZOFFSETTO:+0200
TZNAME:CEST
DTSTART:20210328T010000
END:DAYLIGHT
BEGIN:STANDARD
TZOFFSETFROM:+0200
TZOFFSETTO:+0100
TZNAME:CET
DTSTART:20211031T010000
END:STANDARD
END:VTIMEZONE
BEGIN:VEVENT
DTSTART;VALUE=DATE:20210203
DTEND;VALUE=DATE:20210208
DTSTAMP:20210721T004746
CREATED:20191115T160033Z
LAST-MODIFIED:20191115T160033Z
UID:7678-1612310400-1612742399@europeanchoralassociation.org
SUMMARY:Misatango Choir Festival Vienna\, Austria\, 3-7 February 2021
DESCRIPTION:A magical combination of tango and sacral choir music! \nUnder the baton of Maestro Saul Zaks\, with composer Martín Palmeri at the piano and international soloists\, participating choirs will jointly perform the “Misa a Buenos Aires”\, a contemporary roman mass in an authentic Argentinean tango style\, and the world premiere of Palmeri’s newest composition “Salve Regina” at the great hall of the Wiener Konzerthaus. \nAfter rehearsing the pieces leading up to the festival\, the choirs will have several rehearsals and workshops with Maestro Zaks and Martin Palmeri to get insides\, polish the interpretation to an authentic Argentinian style and grow together as a joint choir. \nThis project is meant to be a joyful communal experience of everyone involved with the common goal of a wonderful performance as the concluding highlight of the festival. \nIn case of questions\, please don’t hesitate to contact us at info@misatango.com or find more information on www.misatango.com. \n
URL:https://europeanchoralassociation.org/event/misatango-choir-festival-vienna-austria-3-7-february-2021/
END:VEVENT
END:VCALENDAR