BEGIN:VCALENDAR
VERSION:2.0
PRODID:-//European Choral Association - ECPv4.9.10//NONSGML v1.0//EN
CALSCALE:GREGORIAN
METHOD:PUBLISH
X-WR-CALNAME:European Choral Association
X-ORIGINAL-URL:https://europeanchoralassociation.org
X-WR-CALDESC:Events for European Choral Association
BEGIN:VTIMEZONE
TZID:Europe/Berlin
BEGIN:DAYLIGHT
TZOFFSETFROM:+0100
TZOFFSETTO:+0200
TZNAME:CEST
DTSTART:20210328T010000
END:DAYLIGHT
BEGIN:STANDARD
TZOFFSETFROM:+0200
TZOFFSETTO:+0100
TZNAME:CET
DTSTART:20211031T010000
END:STANDARD
END:VTIMEZONE
BEGIN:VEVENT
DTSTART;VALUE=DATE:20210428
DTEND;VALUE=DATE:20210503
DTSTAMP:20210518T090231
CREATED:20190219T170448Z
LAST-MODIFIED:20190219T170448Z
UID:5467-1619568000-1619999999@europeanchoralassociation.org
SUMMARY:2021 Cork International Choral Festival
DESCRIPTION:Founded in 1954 to be a dynamic force in developing choral music in Ireland\, the Cork International Choral Festival is held annually over the five days preceding the first Monday in May in venues across the city\, centering around the City Hall\, one of the most attractive and acoustically superb venues in Ireland. It is one of Europe’s premier international choral festivals and is noted for its high competitive standards\, excellent organisation\, and the friendliness of its welcome. Each year some of the finest amateur international choirs are selected to compete for the prestigious Fleischmann International Trophy. The selected choirs also have an opportunity to perform non-competitively in a range of Festival activities presented over the weekend\, including Fringe concerts\, church and informal performances. Their presence gives audiences and Irish choirs the unique opportunity of attending a diverse range of concerts and competitive sessions while in Cork. As well as foreign choirs\, the Festival annually features up to 100 Adult\, Youth and School choirs who participate in National Competitions. Overall the Festival attracts some 5\,000 participants. The festival continues to ensure that choral music\, representative of many historical and cultural traditions\, is brought to the people of Cork and the many visitors who travel to the city for the event. \n
URL:https://europeanchoralassociation.org/event/2021-cork-international-choral-festival/
CATEGORIES:Others
ATTACH;FMTTYPE=image/jpeg:https://europeanchoralassociation.org/wp-content/uploads/2019/02/cork-international-choral-festival-history-and-future-dates-1.jpg
END:VEVENT
END:VCALENDAR