BEGIN:VCALENDAR
VERSION:2.0
PRODID:-//European Choral Association - ECPv4.9.10//NONSGML v1.0//EN
CALSCALE:GREGORIAN
METHOD:PUBLISH
X-WR-CALNAME:European Choral Association
X-ORIGINAL-URL:https://europeanchoralassociation.org
X-WR-CALDESC:Events for European Choral Association
BEGIN:VTIMEZONE
TZID:Europe/Berlin
BEGIN:DAYLIGHT
TZOFFSETFROM:+0100
TZOFFSETTO:+0200
TZNAME:CEST
DTSTART:20210328T010000
END:DAYLIGHT
BEGIN:STANDARD
TZOFFSETFROM:+0200
TZOFFSETTO:+0100
TZNAME:CET
DTSTART:20211031T010000
END:STANDARD
END:VTIMEZONE
BEGIN:VEVENT
DTSTART;VALUE=DATE:20210702
DTEND;VALUE=DATE:20210706
DTSTAMP:20210717T114617
CREATED:20190122T090858Z
LAST-MODIFIED:20210304T100003Z
UID:5153-1625184000-1625529599@europeanchoralassociation.org
SUMMARY:18TH BUDAPEST INTERNATIONAL CHORAL FESTIVAL & COMPETITION
DESCRIPTION:Since 1988\, choirs are magnetized to join to Budapest International Choir Festival and Competition every second year. With an experience of almost 30 years the team has focused on improving its events and the Evaluation System\, the partnership with the participants and clarifying the aims in choral music. \nIn 2021 find your category in a wider selection of categories. In addition to the well known ones choirs will have the possibility to sign up for Senior Choir\, Musica Sacra\, Pop\, and Jazz and Gospel competitions as well. \nWe are cordially inviting everyone to join this renewed celebration of choral music in one of Central Europe’s cultural centers\, in the prestigious concert halls of historical Budapest. \nFor further info please ask: Info@Meeting-Music.Com \n
URL:https://europeanchoralassociation.org/event/18th-budapest-international-choral-festival-competition/
LOCATION:MÜPA Palace of Art
ATTACH;FMTTYPE=image/jpeg:https://europeanchoralassociation.org/wp-content/uploads/2019/01/BP-Chorwettbewerb.jpg
END:VEVENT
END:VCALENDAR